BEGIN:VCALENDAR
VERSION:2.0
PRODID:-//https://www.bluefires.ch///NONSGML kigkonsult.se iCalcreator 2.10.15//
METHOD:PUBLISH
BEGIN:VEVENT
UID:20260422T055828CEST-5734bDDdHu@https://www.bluefires.ch/
DTSTAMP:20260422T035828Z
DESCRIPTION:Formation de rafraichissement de connaissance.7 heures de forma
 tionY compris refresh BLS-AEDRègles COVID : Selon les normes en cours le j
 our de la formation https://www.bluefires.ch/agenda-formations/evenement/1
 50-refresh-secouriste-niveau-3-ias-124-42-2
DTSTART:20241004T083000Z
DTEND:20241004T163000Z
LOCATION:Chemin du Pré Neuf 1\, 1400 Yverdon-les-Bains (Chemin du Pré Neuf 
 1\, 1400 Yverdon-les-Bains)
SUMMARY:Refresh secouriste Niveau 3 IAS - 124.42.2
URL:https://www.bluefires.ch/agenda-formations/evenement/150-refresh-secour
 iste-niveau-3-ias-124-42-2
END:VEVENT
END:VCALENDAR
