BEGIN:VCALENDAR
VERSION:2.0
PRODID:-//https://www.bluefires.ch///NONSGML kigkonsult.se iCalcreator 2.10.15//
METHOD:PUBLISH
BEGIN:VEVENT
UID:20260424T084002CEST-6148pRDp8l@https://www.bluefires.ch/
DTSTAMP:20260424T064002Z
DESCRIPTION:Formation de rafraichissement de connaissance.7 heures de forma
 tionY compris refresh BLS-AEDRègles COVID : Selon les normes en cours le j
 our de la formation https://www.bluefires.ch/agenda-formations/evenement/6
 6-122-23-1-refresh-secouriste-niveau-3-ias
DTSTART:20220408T083000Z
DTEND:20220408T163000Z
LOCATION:Chemin du Pré Neuf 1\, 1400 Yverdon-les-Bains (Chemin du Pré Neuf 
 1\, 1400 Yverdon-les-Bains)
SUMMARY:122.23.1 - Refresh secouriste Niveau 3 IAS
URL:https://www.bluefires.ch/agenda-formations/evenement/66-122-23-1-refres
 h-secouriste-niveau-3-ias
END:VEVENT
END:VCALENDAR
