BEGIN:VCALENDAR
VERSION:2.0
PRODID:-//https://www.bluefires.ch///NONSGML kigkonsult.se iCalcreator 2.10.15//
METHOD:PUBLISH
BEGIN:VEVENT
UID:20260420T111144CEST-0497okeGHG@https://www.bluefires.ch/
DTSTAMP:20260420T091144Z
DESCRIPTION:Cette formation est pour le maintien des compétences tous les 2
  ans.Elle comprends:BLS-AED Generic Provider - Cours complet à la réanimat
 ion.- La gestion de l'urgence.- Sécurité\, alarme\, chaîne de survie.- App
 roche du patient\, réanimation cardiaque\, la défibrillation.- La désobstr
 uction des voies aériennes pour l'adulte et l'enfant.- L'inconscience\, l'
 AVC et l'infarctus.​BLS-AED refresh - Cours compact de rafraichissement.A 
 effectuer tous les 2 ans afin de maintenir ses connaissances à jour.Tous l
 es thèmes du BLS-AED complet.BLS-AED Generic Instructor - Cours d'instruct
 eur à la réanimation.- Formation abordant les contenus du BLS-AED Generic 
 Provider.- Les connaissances de base de didactique et de pédagogie ainsi q
 ue les freins à l'enseignement. https://www.bluefires.ch/agenda-formations
 /evenement/89-121-36-7-refresh-bls-aed-src
DTSTART:20210901T193000Z
DTEND:20210901T220000Z
LOCATION:Chemin du Pré Neuf 1\, 1400 Yverdon-les-Bains (Chemin du Pré Neuf 
 1\, 1400 Yverdon-les-Bains)
SUMMARY:121.36.7 - Refresh BLS-AED SRC
URL:https://www.bluefires.ch/agenda-formations/evenement/89-121-36-7-refres
 h-bls-aed-src
END:VEVENT
END:VCALENDAR
